BEGIN:VCALENDAR
VERSION:2.0
PRODID:-//Dumfries and County Golf Club - ECPv6.15.18//NONSGML v1.0//EN
CALSCALE:GREGORIAN
METHOD:PUBLISH
X-ORIGINAL-URL:https://www.thecounty.co.uk
X-WR-CALDESC:Events for Dumfries and County Golf Club
REFRESH-INTERVAL;VALUE=DURATION:PT1H
X-Robots-Tag:noindex
X-PUBLISHED-TTL:PT1H
BEGIN:VTIMEZONE
TZID:Europe/London
BEGIN:DAYLIGHT
TZOFFSETFROM:+0000
TZOFFSETTO:+0100
TZNAME:BST
DTSTART:20230326T010000
END:DAYLIGHT
BEGIN:STANDARD
TZOFFSETFROM:+0100
TZOFFSETTO:+0000
TZNAME:GMT
DTSTART:20231029T010000
END:STANDARD
BEGIN:DAYLIGHT
TZOFFSETFROM:+0000
TZOFFSETTO:+0100
TZNAME:BST
DTSTART:20240331T010000
END:DAYLIGHT
BEGIN:STANDARD
TZOFFSETFROM:+0100
TZOFFSETTO:+0000
TZNAME:GMT
DTSTART:20241027T010000
END:STANDARD
BEGIN:DAYLIGHT
TZOFFSETFROM:+0000
TZOFFSETTO:+0100
TZNAME:BST
DTSTART:20250330T010000
END:DAYLIGHT
BEGIN:STANDARD
TZOFFSETFROM:+0100
TZOFFSETTO:+0000
TZNAME:GMT
DTSTART:20251026T010000
END:STANDARD
END:VTIMEZONE
BEGIN:VEVENT
DTSTART;TZID=Europe/London:20241207T120000
DTEND;TZID=Europe/London:20241221T170000
DTSTAMP:20260422T121615
CREATED:20241029T105436Z
LAST-MODIFIED:20241029T105436Z
UID:10000624-1733572800-1734800400@www.thecounty.co.uk
SUMMARY:Pre Christmas Menu
DESCRIPTION:What better way to start the holiday season than with a Pre-Christmas lunch? Delight in our seasonal menu\, surrounded by festive cheer and lively chat\, all while soaking in the beautiful views of the 18th hole. \n  \nAvailable from 7th to 21st December. CLICK HERE to see the menu.
URL:https://www.thecounty.co.uk/event/pre-christmas-menu/
CATEGORIES:Social Events
END:VEVENT
END:VCALENDAR