BEGIN:VCALENDAR
VERSION:2.0
PRODID:-//Dumfries and County Golf Club - ECPv6.15.18//NONSGML v1.0//EN
CALSCALE:GREGORIAN
METHOD:PUBLISH
X-WR-CALNAME:Dumfries and County Golf Club
X-ORIGINAL-URL:https://www.thecounty.co.uk
X-WR-CALDESC:Events for Dumfries and County Golf Club
REFRESH-INTERVAL;VALUE=DURATION:PT1H
X-Robots-Tag:noindex
X-PUBLISHED-TTL:PT1H
BEGIN:VTIMEZONE
TZID:Europe/London
BEGIN:DAYLIGHT
TZOFFSETFROM:+0000
TZOFFSETTO:+0100
TZNAME:BST
DTSTART:20230326T010000
END:DAYLIGHT
BEGIN:STANDARD
TZOFFSETFROM:+0100
TZOFFSETTO:+0000
TZNAME:GMT
DTSTART:20231029T010000
END:STANDARD
BEGIN:DAYLIGHT
TZOFFSETFROM:+0000
TZOFFSETTO:+0100
TZNAME:BST
DTSTART:20240331T010000
END:DAYLIGHT
BEGIN:STANDARD
TZOFFSETFROM:+0100
TZOFFSETTO:+0000
TZNAME:GMT
DTSTART:20241027T010000
END:STANDARD
BEGIN:DAYLIGHT
TZOFFSETFROM:+0000
TZOFFSETTO:+0100
TZNAME:BST
DTSTART:20250330T010000
END:DAYLIGHT
BEGIN:STANDARD
TZOFFSETFROM:+0100
TZOFFSETTO:+0000
TZNAME:GMT
DTSTART:20251026T010000
END:STANDARD
END:VTIMEZONE
BEGIN:VEVENT
DTSTART;TZID=Europe/London:20240411T000000
DTEND;TZID=Europe/London:20240411T000000
DTSTAMP:20260422T133805
CREATED:20240226T160901Z
LAST-MODIFIED:20240227T113229Z
UID:10000485-1712793600-1712793600@www.thecounty.co.uk
SUMMARY:Singles Knockout (Ladies)
DESCRIPTION:
URL:https://www.thecounty.co.uk/event/singles-knockout-ladies-2/
CATEGORIES:Club Knockout (last day for entry)
END:VEVENT
BEGIN:VEVENT
DTSTART;TZID=Europe/London:20240411T000000
DTEND;TZID=Europe/London:20240411T000000
DTSTAMP:20260422T133805
CREATED:20240226T160901Z
LAST-MODIFIED:20240227T113006Z
UID:10000486-1712793600-1712793600@www.thecounty.co.uk
SUMMARY:Loch Ettrick Pairs Knockout (Ladies)
DESCRIPTION:
URL:https://www.thecounty.co.uk/event/loch-ettrick-pairs-knockout-ladies-2/
CATEGORIES:Club Knockout (last day for entry)
END:VEVENT
BEGIN:VEVENT
DTSTART;TZID=Europe/London:20240407T000000
DTEND;TZID=Europe/London:20240407T000000
DTSTAMP:20260422T133805
CREATED:20240226T160903Z
LAST-MODIFIED:20240226T160903Z
UID:10000487-1712448000-1712448000@www.thecounty.co.uk
SUMMARY:Henderson Cup Pairs Knockout
DESCRIPTION:
URL:https://www.thecounty.co.uk/event/henderson-cup-pairs-knockout-2/
CATEGORIES:Club Knockout (last day for entry)
END:VEVENT
BEGIN:VEVENT
DTSTART;TZID=Europe/London:20240407T000000
DTEND;TZID=Europe/London:20240407T000000
DTSTAMP:20260422T133805
CREATED:20240226T160903Z
LAST-MODIFIED:20240226T160903Z
UID:10000488-1712448000-1712448000@www.thecounty.co.uk
SUMMARY:Arrol Johnstone Singles Knockout
DESCRIPTION:
URL:https://www.thecounty.co.uk/event/arrol-johnstone-singles-knockout-2/
CATEGORIES:Club Knockout (last day for entry)
END:VEVENT
END:VCALENDAR