BEGIN:VCALENDAR
VERSION:2.0
PRODID:-//Dumfries and County Golf Club - ECPv6.15.18//NONSGML v1.0//EN
CALSCALE:GREGORIAN
METHOD:PUBLISH
X-WR-CALNAME:Dumfries and County Golf Club
X-ORIGINAL-URL:https://www.thecounty.co.uk
X-WR-CALDESC:Events for Dumfries and County Golf Club
REFRESH-INTERVAL;VALUE=DURATION:PT1H
X-Robots-Tag:noindex
X-PUBLISHED-TTL:PT1H
BEGIN:VTIMEZONE
TZID:Europe/London
BEGIN:DAYLIGHT
TZOFFSETFROM:+0000
TZOFFSETTO:+0100
TZNAME:BST
DTSTART:20230326T010000
END:DAYLIGHT
BEGIN:STANDARD
TZOFFSETFROM:+0100
TZOFFSETTO:+0000
TZNAME:GMT
DTSTART:20231029T010000
END:STANDARD
BEGIN:DAYLIGHT
TZOFFSETFROM:+0000
TZOFFSETTO:+0100
TZNAME:BST
DTSTART:20240331T010000
END:DAYLIGHT
BEGIN:STANDARD
TZOFFSETFROM:+0100
TZOFFSETTO:+0000
TZNAME:GMT
DTSTART:20241027T010000
END:STANDARD
BEGIN:DAYLIGHT
TZOFFSETFROM:+0000
TZOFFSETTO:+0100
TZNAME:BST
DTSTART:20250330T010000
END:DAYLIGHT
BEGIN:STANDARD
TZOFFSETFROM:+0100
TZOFFSETTO:+0000
TZNAME:GMT
DTSTART:20251026T010000
END:STANDARD
BEGIN:DAYLIGHT
TZOFFSETFROM:+0000
TZOFFSETTO:+0100
TZNAME:BST
DTSTART:20260329T010000
END:DAYLIGHT
BEGIN:STANDARD
TZOFFSETFROM:+0100
TZOFFSETTO:+0000
TZNAME:GMT
DTSTART:20261025T010000
END:STANDARD
BEGIN:DAYLIGHT
TZOFFSETFROM:+0000
TZOFFSETTO:+0100
TZNAME:BST
DTSTART:20270328T010000
END:DAYLIGHT
BEGIN:STANDARD
TZOFFSETFROM:+0100
TZOFFSETTO:+0000
TZNAME:GMT
DTSTART:20271031T010000
END:STANDARD
END:VTIMEZONE
BEGIN:VEVENT
DTSTART;TZID=Europe/London:20260328T200000
DTEND;TZID=Europe/London:20260328T233000
DTSTAMP:20260422T093744
CREATED:20260121T113142Z
LAST-MODIFIED:20260121T113142Z
UID:10000632-1774728000-1774740600@www.thecounty.co.uk
SUMMARY:Pre Season Dance
DESCRIPTION:Davie Thomson
URL:https://www.thecounty.co.uk/event/pre-season-dance/
CATEGORIES:Social Events
END:VEVENT
BEGIN:VEVENT
DTSTART;TZID=Europe/London:20260228T190000
DTEND;TZID=Europe/London:20260228T230000
DTSTAMP:20260422T093744
CREATED:20260109T162959Z
LAST-MODIFIED:20260109T162959Z
UID:10000631-1772305200-1772319600@www.thecounty.co.uk
SUMMARY:Country Music Night
DESCRIPTION: 
URL:https://www.thecounty.co.uk/event/country-music-night/
CATEGORIES:Social Events
END:VEVENT
BEGIN:VEVENT
DTSTART;TZID=Europe/London:20251228T080000
DTEND;TZID=Europe/London:20251228T170000
DTSTAMP:20260422T093744
CREATED:20251228T133601Z
LAST-MODIFIED:20251228T133835Z
UID:10000630-1766908800-1766941200@www.thecounty.co.uk
SUMMARY:Hare of The Dog Quiz
DESCRIPTION:
URL:https://www.thecounty.co.uk/event/hare-of-the-dog-quiz/
CATEGORIES:Social Events
END:VEVENT
BEGIN:VEVENT
DTSTART;TZID=Europe/London:20241231T190000
DTEND;TZID=Europe/London:20250101T003000
DTSTAMP:20260422T093744
CREATED:20241029T105637Z
LAST-MODIFIED:20241029T105751Z
UID:10000625-1735671600-1735691400@www.thecounty.co.uk
SUMMARY:Hogmanay Party - SOLD OUT
DESCRIPTION:Ring in the New Year with us at the County! Enjoy the finger buffet and dance the night away with our lively disco. We’ll kick off the celebrations at 7pm and keep the party going until 12.30am\, so bring the energy and get ready to make some memories! \nTickets are £25 per person – secure yours at the bar before they’re gone!
URL:https://www.thecounty.co.uk/event/hogmanay-party-sold-out/
CATEGORIES:Social Events
END:VEVENT
BEGIN:VEVENT
DTSTART;TZID=Europe/London:20241222T150000
DTEND;TZID=Europe/London:20241222T170000
DTSTAMP:20260422T093744
CREATED:20241029T105105Z
LAST-MODIFIED:20241029T105105Z
UID:10000623-1734879600-1734886800@www.thecounty.co.uk
SUMMARY:Childrens Christmas Party
DESCRIPTION:The Children’s Christmas Party will be held on Sunday 22nd December from 3pm from 5pm. Join us for an afternoon of fun and entertainment\, featuring Crazy Connor\,  perfect for the youngest members of your family. \nSpaces are limited\, so please be sure to book in advance! \n£3 per child
URL:https://www.thecounty.co.uk/event/childrens-christmas-party/
CATEGORIES:Social Events
END:VEVENT
BEGIN:VEVENT
DTSTART;TZID=Europe/London:20241207T120000
DTEND;TZID=Europe/London:20241221T170000
DTSTAMP:20260422T093744
CREATED:20241029T105436Z
LAST-MODIFIED:20241029T105436Z
UID:10000624-1733572800-1734800400@www.thecounty.co.uk
SUMMARY:Pre Christmas Menu
DESCRIPTION:What better way to start the holiday season than with a Pre-Christmas lunch? Delight in our seasonal menu\, surrounded by festive cheer and lively chat\, all while soaking in the beautiful views of the 18th hole. \n  \nAvailable from 7th to 21st December. CLICK HERE to see the menu.
URL:https://www.thecounty.co.uk/event/pre-christmas-menu/
CATEGORIES:Social Events
END:VEVENT
BEGIN:VEVENT
DTSTART;TZID=Europe/London:20241129T183000
DTEND;TZID=Europe/London:20241129T233000
DTSTAMP:20260422T093744
CREATED:20241029T104912Z
LAST-MODIFIED:20241029T104912Z
UID:10000622-1732905000-1732923000@www.thecounty.co.uk
SUMMARY:St Andrews Night Supper & Song
DESCRIPTION:Join us for a night of smashin’ food with a side of Scottish song. Bring yer pals\, enjoy a bit of lively craic\, and savour the flavours of Scotland – all while soaking in some live traditional tunes from musicians straight from the Royal Conservatoire of Scotland! \nFriday 29th November\, 7pm. \n£25pp – please book and return food orders in advance \nst Andrews
URL:https://www.thecounty.co.uk/event/st-andrews-night-supper-song/
CATEGORIES:Social Events
END:VEVENT
BEGIN:VEVENT
DTSTART;TZID=Europe/London:20241127T190000
DTEND;TZID=Europe/London:20241127T200000
DTSTAMP:20260422T093744
CREATED:20241118T092516Z
LAST-MODIFIED:20241118T092516Z
UID:10000626-1732734000-1732737600@www.thecounty.co.uk
SUMMARY:AGM
DESCRIPTION:The Club Annual General Meeting will take place in the clubhouse on Wednesday\, November 27th\, 2024\, at 7 PM. \nAll adult members are welcome to attend\, but only full ordinary members are eligible to vote. \nClub Administrator
URL:https://www.thecounty.co.uk/event/agm/
END:VEVENT
BEGIN:VEVENT
DTSTART;TZID=Europe/London:20241005T120000
DTEND;TZID=Europe/London:20241005T120000
DTSTAMP:20260422T093744
CREATED:20240226T161521Z
LAST-MODIFIED:20240226T161521Z
UID:10000618-1728129600-1728129600@www.thecounty.co.uk
SUMMARY:Kenmure Rosebowl
DESCRIPTION:
URL:https://www.thecounty.co.uk/event/kenmure-rosebowl/
CATEGORIES:Club Competition
END:VEVENT
BEGIN:VEVENT
DTSTART;TZID=Europe/London:20241001T132800
DTEND;TZID=Europe/London:20241001T132800
DTSTAMP:20260422T093744
CREATED:20240226T161521Z
LAST-MODIFIED:20240226T161521Z
UID:10000617-1727789280-1727789280@www.thecounty.co.uk
SUMMARY:Ladies Closing Competition
DESCRIPTION:
URL:https://www.thecounty.co.uk/event/ladies-closing-competition/
CATEGORIES:Club Competition
END:VEVENT
BEGIN:VEVENT
DTSTART;TZID=Europe/London:20240930T093400
DTEND;TZID=Europe/London:20240930T093400
DTSTAMP:20260422T093744
CREATED:20240226T161520Z
LAST-MODIFIED:20240226T161520Z
UID:10000616-1727688840-1727688840@www.thecounty.co.uk
SUMMARY:Doonhamers Closing
DESCRIPTION:
URL:https://www.thecounty.co.uk/event/doonhamers-closing/
CATEGORIES:Club Competition
END:VEVENT
BEGIN:VEVENT
DTSTART;TZID=Europe/London:20240920T093400
DTEND;TZID=Europe/London:20240920T093400
DTSTAMP:20260422T093744
CREATED:20240226T161520Z
LAST-MODIFIED:20240226T161520Z
UID:10000615-1726824840-1726824840@www.thecounty.co.uk
SUMMARY:Doonhamers vs Moffat
DESCRIPTION:
URL:https://www.thecounty.co.uk/event/doonhamers-vs-moffat-3/
CATEGORIES:Team Match
END:VEVENT
BEGIN:VEVENT
DTSTART;TZID=Europe/London:20240916T093400
DTEND;TZID=Europe/London:20240916T093400
DTSTAMP:20260422T093744
CREATED:20240226T161520Z
LAST-MODIFIED:20240226T161520Z
UID:10000614-1726479240-1726479240@www.thecounty.co.uk
SUMMARY:Danny Ross Trophy (Doonhamers)
DESCRIPTION:
URL:https://www.thecounty.co.uk/event/danny-ross-trophy-doonhamers/
CATEGORIES:Club Competition
END:VEVENT
BEGIN:VEVENT
DTSTART;TZID=Europe/London:20240915T103200
DTEND;TZID=Europe/London:20240915T103200
DTSTAMP:20260422T093744
CREATED:20240226T161506Z
LAST-MODIFIED:20240226T161506Z
UID:10000613-1726396320-1726396320@www.thecounty.co.uk
SUMMARY:Solhiem Cup
DESCRIPTION:
URL:https://www.thecounty.co.uk/event/solhiem-cup-3/
CATEGORIES:Club Competition
END:VEVENT
BEGIN:VEVENT
DTSTART;TZID=Europe/London:20240911T093400
DTEND;TZID=Europe/London:20240911T093400
DTSTAMP:20260422T093744
CREATED:20240226T161506Z
LAST-MODIFIED:20240226T161506Z
UID:10000612-1726047240-1726047240@www.thecounty.co.uk
SUMMARY:Doonhamers vs Thornhill
DESCRIPTION:
URL:https://www.thecounty.co.uk/event/doonhamers-vs-thornhill-3/
CATEGORIES:Team Match
END:VEVENT
BEGIN:VEVENT
DTSTART;TZID=Europe/London:20240910T080000
DTEND;TZID=Europe/London:20240910T080000
DTSTAMP:20260422T093744
CREATED:20240226T161505Z
LAST-MODIFIED:20240226T161505Z
UID:10000611-1725955200-1725955200@www.thecounty.co.uk
SUMMARY:Lifeboat Stableford
DESCRIPTION:
URL:https://www.thecounty.co.uk/event/lifeboat-stableford-3/
CATEGORIES:Club Competition
END:VEVENT
BEGIN:VEVENT
DTSTART;TZID=Europe/London:20240908T080000
DTEND;TZID=Europe/London:20240908T080000
DTSTAMP:20260422T093744
CREATED:20240226T161505Z
LAST-MODIFIED:20240226T161505Z
UID:10000610-1725782400-1725782400@www.thecounty.co.uk
SUMMARY:Nunfield Cup
DESCRIPTION:
URL:https://www.thecounty.co.uk/event/nunfield-cup-3/
CATEGORIES:Open Competition
END:VEVENT
BEGIN:VEVENT
DTSTART;TZID=Europe/London:20240907T080000
DTEND;TZID=Europe/London:20240907T080000
DTSTAMP:20260422T093744
CREATED:20240226T161505Z
LAST-MODIFIED:20240226T161505Z
UID:10000609-1725696000-1725696000@www.thecounty.co.uk
SUMMARY:Alan Ball Jnr Memorial Trophy
DESCRIPTION:
URL:https://www.thecounty.co.uk/event/alan-ball-jnr-memorial-trophy-3/
CATEGORIES:Club Competition
END:VEVENT
BEGIN:VEVENT
DTSTART;TZID=Europe/London:20240903T080000
DTEND;TZID=Europe/London:20240903T080000
DTSTAMP:20260422T093744
CREATED:20240226T161451Z
LAST-MODIFIED:20240226T161451Z
UID:10000608-1725350400-1725350400@www.thecounty.co.uk
SUMMARY:Cancer Research
DESCRIPTION:
URL:https://www.thecounty.co.uk/event/cancer-research-3/
CATEGORIES:Club Competition
END:VEVENT
BEGIN:VEVENT
DTSTART;TZID=Europe/London:20240902T100000
DTEND;TZID=Europe/London:20240902T100000
DTSTAMP:20260422T093744
CREATED:20240226T161451Z
LAST-MODIFIED:20240226T161451Z
UID:10000607-1725271200-1725271200@www.thecounty.co.uk
SUMMARY:Doonhamers vs Workington
DESCRIPTION:
URL:https://www.thecounty.co.uk/event/doonhamers-vs-workington-3/
CATEGORIES:Team Match
END:VEVENT
BEGIN:VEVENT
DTSTART;TZID=Europe/London:20240901T080000
DTEND;TZID=Europe/London:20240901T080000
DTSTAMP:20260422T093744
CREATED:20240226T161450Z
LAST-MODIFIED:20240226T161450Z
UID:10000606-1725177600-1725177600@www.thecounty.co.uk
SUMMARY:Johnstone Cup Mixed Greensomes
DESCRIPTION:
URL:https://www.thecounty.co.uk/event/johnstone-cup-mixed-greensomes-3/
CATEGORIES:Open Competition
END:VEVENT
BEGIN:VEVENT
DTSTART;TZID=Europe/London:20240831T143400
DTEND;TZID=Europe/London:20240831T143400
DTSTAMP:20260422T093744
CREATED:20240226T161450Z
LAST-MODIFIED:20240226T161450Z
UID:10000605-1725114840-1725114840@www.thecounty.co.uk
SUMMARY:Junior Competitions
DESCRIPTION:
URL:https://www.thecounty.co.uk/event/junior-competitions-32/
CATEGORIES:Club Competition
END:VEVENT
BEGIN:VEVENT
DTSTART;TZID=Europe/London:20240830T160000
DTEND;TZID=Europe/London:20240830T160000
DTSTAMP:20260422T093744
CREATED:20240226T161450Z
LAST-MODIFIED:20240226T161450Z
UID:10000604-1725033600-1725033600@www.thecounty.co.uk
SUMMARY:Junior Competitions
DESCRIPTION:
URL:https://www.thecounty.co.uk/event/junior-competitions-31/
CATEGORIES:Club Competition
END:VEVENT
BEGIN:VEVENT
DTSTART;TZID=Europe/London:20240828T085600
DTEND;TZID=Europe/London:20240828T085600
DTSTAMP:20260422T093744
CREATED:20240226T161436Z
LAST-MODIFIED:20240226T161436Z
UID:10000603-1724835360-1724835360@www.thecounty.co.uk
SUMMARY:Dumfriesshire Seniors
DESCRIPTION:
URL:https://www.thecounty.co.uk/event/dumfriesshire-seniors-3/
CATEGORIES:Open Competition
END:VEVENT
BEGIN:VEVENT
DTSTART;TZID=Europe/London:20240827T080000
DTEND;TZID=Europe/London:20240827T080000
DTSTAMP:20260422T093744
CREATED:20240226T161435Z
LAST-MODIFIED:20240226T161435Z
UID:10000602-1724745600-1724745600@www.thecounty.co.uk
SUMMARY:September Medal
DESCRIPTION:
URL:https://www.thecounty.co.uk/event/september-medal-3/
CATEGORIES:Club Competition
END:VEVENT
BEGIN:VEVENT
DTSTART;TZID=Europe/London:20240826T093400
DTEND;TZID=Europe/London:20240826T093400
DTSTAMP:20260422T093744
CREATED:20240226T161435Z
LAST-MODIFIED:20240226T161435Z
UID:10000601-1724664840-1724664840@www.thecounty.co.uk
SUMMARY:Doonhamers vs Lochmaben
DESCRIPTION:
URL:https://www.thecounty.co.uk/event/doonhamers-vs-lochmaben-3/
CATEGORIES:Team Match
END:VEVENT
BEGIN:VEVENT
DTSTART;TZID=Europe/London:20240823T160000
DTEND;TZID=Europe/London:20240823T160000
DTSTAMP:20260422T093744
CREATED:20240226T161435Z
LAST-MODIFIED:20240226T161435Z
UID:10000600-1724428800-1724428800@www.thecounty.co.uk
SUMMARY:Junior Competitions
DESCRIPTION:
URL:https://www.thecounty.co.uk/event/junior-competitions-30/
CATEGORIES:Club Competition
END:VEVENT
BEGIN:VEVENT
DTSTART;TZID=Europe/London:20240820T080000
DTEND;TZID=Europe/London:20240820T080000
DTSTAMP:20260422T093745
CREATED:20240226T161434Z
LAST-MODIFIED:20240226T161434Z
UID:10000599-1724140800-1724140800@www.thecounty.co.uk
SUMMARY:Queensberry Trophy
DESCRIPTION:
URL:https://www.thecounty.co.uk/event/queensberry-trophy-3/
CATEGORIES:Club Competition
END:VEVENT
BEGIN:VEVENT
DTSTART;TZID=Europe/London:20240818T103000
DTEND;TZID=Europe/London:20240818T103000
DTSTAMP:20260422T093745
CREATED:20240226T161421Z
LAST-MODIFIED:20240226T161421Z
UID:10000598-1723977000-1723977000@www.thecounty.co.uk
SUMMARY:Generation Gap
DESCRIPTION:
URL:https://www.thecounty.co.uk/event/generation-gap-3/
CATEGORIES:Club Competition
END:VEVENT
BEGIN:VEVENT
DTSTART;TZID=Europe/London:20240817T073000
DTEND;TZID=Europe/London:20240817T073000
DTSTAMP:20260422T093745
CREATED:20240226T161420Z
LAST-MODIFIED:20240226T161420Z
UID:10000597-1723879800-1723879800@www.thecounty.co.uk
SUMMARY:McCall Salver
DESCRIPTION:
URL:https://www.thecounty.co.uk/event/mccall-salver-3/
CATEGORIES:Club Competition
END:VEVENT
END:VCALENDAR